Workbook
Name A_1: #REF!
Name Agua: #REF!
Name Asfalto: #REF!
Name CompraDireta: #REF!
Name Cotacao: #REF!
Name Eletricidade: #REF!
Name Fluvial: #REF!
Name OCara: #REF!
Name Predial: #REF!
Name Spina: #REF!
Name V_1: #REF!

Sheet Orçamento
A1: Obra: | B1: Construção de Horta Municipal - Reservatório 10.000L
A2: Local: | B2: Rua Comandante Aristeu Cerqueira Leite, s/n.°, Jd. João Ballan II, Jahu/SP
A3: BDI 1: | B3: 0.21 | C3: <-- BDI para itens dos boletins de custo (CDHU, SINAPI/SP, FDE)
A4: BDI 2: | B4: 0.1384 | C4: <-- BDI para itens obtidos via cotações
A5: Jahu/SP, 25 de agosto de 2026
A6: Item | B6: Código | C6: Fonte | D6: Descrição | E6: Qtd | F6: Un. | G6: Preço Unitário sem BDI | H6: BDI | I6: Preço Unitário com BDI | J6: Preço Total com BDI
A7: 1. | B7: SERVIÇOS PRELIMINARES | J7: =SUM(J8:J15) -> 8481.64
A8: 1.1 | B8: 02.08.050 | C8: CDHU | D8: Placa em lona com impressão digital e estrutura em madeira | E8: 3 | F8: M2 | G8: 207.8 | H8: =$B$3 -> 0.21 | I8: =ROUND(G8*(1+H8),2) -> 251.44 | J8: =ROUND(I8*E8,2) -> 754.32
A9: 1.2 | B9: 02.01.180 | C9: CDHU | D9: Banheiro químico modelo Standard, com manutenção conforme exigências da CETESB | E9: 2 | F9: UNMES | G9: 1259.83 | H9: =$B$3 -> 0.21 | I9: =ROUND(G9*(1+H9),2) -> 1524.39 | J9: =ROUND(I9*E9,2) -> 3048.78
A10: 1.3 | B10: 02.02.150 | C10: CDHU | D10: Locação de container tipo depósito - área mínima de 13,80 m² | E10: 2 | F10: UNMES | G10: 1010.89 | H10: =$B$3 -> 0.21 | I10: =ROUND(G10*(1+H10),2) -> 1223.18 | J10: =ROUND(I10*E10,2) -> 2446.36
A11: 1.4 | B11: 98525 | C11: SINAPI | D11: LIMPEZA MECANIZADA DE CAMADA VEGETAL, VEGETAÇÃO E PEQUENAS ÁRVORES (DIÂMETRO DE TRONCO MENOR QUE 0,20 M), COM TRATOR DE ESTEIRAS. AF_03/2024 | E11: 200 | F11: M2 | G11: 0.76 | H11: =$B$3 -> 0.21 | I11: =ROUND(G11*(1+H11),2) -> 0.92 | J11: =ROUND(I11*E11,2) -> 184
A12: 1.5 | B12: 05.10.023 | C12: CDHU | D12: Transporte de solo de 1ª e 2ª categoria por caminhão para distâncias superiores ao 5° km até o 10° km | E12: 30 | F12: M3 | G12: 21.14 | H12: =$B$3 -> 0.21 | I12: =ROUND(G12*(1+H12),2) -> 25.58 | J12: =ROUND(I12*E12,2) -> 767.4
A13: 1.6 | B13: 6081 | C13: SINAPI-I | D13: ARGILA OU BARRO PARA ATERRO/REATERRO (COM TRANSPORTE ATE 10 KM) | E13: 5 | F13: M3 | G13: 57.41 | H13: =$B$3 -> 0.21 | I13: =ROUND(G13*(1+H13),2) -> 69.47 | J13: =ROUND(I13*E13,2) -> 347.35
A14: 1.7 | B14: 02.10.020 | C14: CDHU | D14: Locação de obra de edificação | E14: 29.25 | F14: M2 | G14: 18.68 | H14: =$B$3 -> 0.21 | I14: =ROUND(G14*(1+H14),2) -> 22.6 | J14: =ROUND(I14*E14,2) -> 661.05
A15: 1.8 | B15: 02.10.050 | C15: CDHU | D15: Locação para muros, cercas e alambrados | E15: 140.4 | F15: M | G15: 1.6 | H15: =$B$3 -> 0.21 | I15: =ROUND(G15*(1+H15),2) -> 1.94 | J15: =ROUND(I15*E15,2) -> 272.38
A16: 2. | B16: INFRAESTRUTURA | J16: =SUM(J17:J32) -> 10926.61
A17: 2.1 | B17: 12.01.021 | C17: CDHU | D17: Broca em concreto armado diâmetro de 20 cm - completa | E17: 30 | F17: M | G17: 75.47 | H17: =$B$3 -> 0.21 | I17: =ROUND(G17*(1+H17),2) -> 91.32 | J17: =ROUND(I17*E17,2) -> 2739.6
A18: 2.2 | B18: 96527 | C18: SINAPI | D18: ESCAVAÇÃO MANUAL PARA VIGA BALDRAME OU SAPATA CORRIDA (INCLUINDO ESCAVAÇÃO PARA COLOCAÇÃO DE FÔRMAS). AF_01/2024 | E18: 2.73 | F18: M3 | G18: 150.51 | H18: =$B$3 -> 0.21 | I18: =ROUND(G18*(1+H18),2) -> 182.12 | J18: =ROUND(I18*E18,2) -> 497.19
A19: 2.3 | B19: 96536 | C19: SINAPI | D19: FABRICAÇÃO, MONTAGEM E DESMONTAGEM DE FÔRMA PARA VIGA BALDRAME, EM MADEIRA SERRADA, E=25 MM, 4 UTILIZAÇÕES. AF_01/2024 | E19: 15.6 | F19: M2 | G19: 80.4 | H19: =$B$3 -> 0.21 | I19: =ROUND(G19*(1+H19),2) -> 97.28 | J19: =ROUND(I19*E19,2) -> 1517.57
A20: 2.4 | B20: 11.18.040 | C20: CDHU | D20: Lastro de pedra britada | E20: 0.26 | F20: M3 | G20: 224.12 | H20: =$B$3 -> 0.21 | I20: =ROUND(G20*(1+H20),2) -> 271.19 | J20: =ROUND(I20*E20,2) -> 70.51
A21: 2.5 | B21: 104919 | C21: SINAPI | D21: ARMAÇÃO DE SAPATA ISOLADA, VIGA BALDRAME E SAPATA CORRIDA UTILIZANDO AÇO CA-50 DE 10 MM - MONTAGEM. AF_01/2024 | E21: 64.17 | F21: KG | G21: 12.46 | H21: =$B$3 -> 0.21 | I21: =ROUND(G21*(1+H21),2) -> 15.08 | J21: =ROUND(I21*E21,2) -> 967.68
A22: 2.6 | B22: 104916 | C22: SINAPI | D22: ARMAÇÃO DE SAPATA ISOLADA, VIGA BALDRAME E SAPATA CORRIDA UTILIZANDO AÇO CA-60 DE 5 MM - MONTAGEM. AF_01/2024 | E22: 18.02 | F22: KG | G22: 18.3 | H22: =$B$3 -> 0.21 | I22: =ROUND(G22*(1+H22),2) -> 22.14 | J22: =ROUND(I22*E22,2) -> 398.96
A23: 2.7 | B23: 96557 | C23: SINAPI | D23: CONCRETAGEM DE BLOCO DE COROAMENTO OU VIGA BALDRAME, FCK 30 MPA, COM USO DE BOMBA - LANÇAMENTO, ADENSAMENTO E ACABAMENTO. AF_01/2024 | E23: 1.56 | F23: M3 | G23: 710.11 | H23: =$B$3 -> 0.21 | I23: =ROUND(G23*(1+H23),2) -> 859.23 | J23: =ROUND(I23*E23,2) -> 1340.4
A24: 2.8 | B24: 98557 | C24: SINAPI | D24: IMPERMEABILIZAÇÃO DE SUPERFÍCIE COM EMULSÃO ASFÁLTICA, 2 DEMÃOS. AF_09/2023 | E24: 20.8 | F24: M2 | G24: 46.81 | H24: =$B$3 -> 0.21 | I24: =ROUND(G24*(1+H24),2) -> 56.64 | J24: =ROUND(I24*E24,2) -> 1178.11
B25: Pilares do Portão / Área de vendas - Muro
A26: 2.9 | B26: 12.01.021 | C26: CDHU | D26: Broca em concreto armado diâmetro de 20 cm - completa | E26: 14 | F26: M | G26: 75.47 | H26: =$B$3 -> 0.21 | I26: =ROUND(G26*(1+H26),2) -> 91.32 | J26: =ROUND(I26*E26,2) -> 1278.48
A27: 2.10 | B27: 96527 | C27: SINAPI | D27: ESCAVAÇÃO MANUAL PARA VIGA BALDRAME OU SAPATA CORRIDA (INCLUINDO ESCAVAÇÃO PARA COLOCAÇÃO DE FÔRMAS). AF_01/2024 | E27: 0.61 | F27: M3 | G27: 150.51 | H27: =$B$3 -> 0.21 | I27: =ROUND(G27*(1+H27),2) -> 182.12 | J27: =ROUND(I27*E27,2) -> 111.09
A28: 2.11 | B28: 11.18.040 | C28: CDHU | D28: Lastro de pedra britada | E28: 0.07 | F28: M3 | G28: 224.12 | H28: =$B$3 -> 0.21 | I28: =ROUND(G28*(1+H28),2) -> 271.19 | J28: =ROUND(I28*E28,2) -> 18.98
A29: 2.12 | B29: 104919 | C29: SINAPI | D29: ARMAÇÃO DE SAPATA ISOLADA, VIGA BALDRAME E SAPATA CORRIDA UTILIZANDO AÇO CA-50 DE 10 MM - MONTAGEM. AF_01/2024 | E29: 16.78 | F29: KG | G29: 12.46 | H29: =$B$3 -> 0.21 | I29: =ROUND(G29*(1+H29),2) -> 15.08 | J29: =ROUND(I29*E29,2) -> 253.04
A30: 2.13 | B30: 104916 | C30: SINAPI | D30: ARMAÇÃO DE SAPATA ISOLADA, VIGA BALDRAME E SAPATA CORRIDA UTILIZANDO AÇO CA-60 DE 5 MM - MONTAGEM. AF_01/2024 | E30: 3.67 | F30: KG | G30: 18.3 | H30: =$B$3 -> 0.21 | I30: =ROUND(G30*(1+H30),2) -> 22.14 | J30: =ROUND(I30*E30,2) -> 81.25
A31: 2.14 | B31: 96557 | C31: SINAPI | D31: CONCRETAGEM DE BLOCO DE COROAMENTO OU VIGA BALDRAME, FCK 30 MPA, COM USO DE BOMBA - LANÇAMENTO, ADENSAMENTO E ACABAMENTO. AF_01/2024 | E31: 0.26 | F31: M3 | G31: 710.11 | H31: =$B$3 -> 0.21 | I31: =ROUND(G31*(1+H31),2) -> 859.23 | J31: =ROUND(I31*E31,2) -> 223.4
A32: 2.15 | B32: 98557 | C32: SINAPI | D32: IMPERMEABILIZAÇÃO DE SUPERFÍCIE COM EMULSÃO ASFÁLTICA, 2 DEMÃOS. AF_09/2023 | E32: 4.42 | F32: M2 | G32: 46.81 | H32: =$B$3 -> 0.21 | I32: =ROUND(G32*(1+H32),2) -> 56.64 | J32: =ROUND(I32*E32,2) -> 250.35
A33: 3. | B33: SUPERESTRUTURA | J33: =SUM(J34:J47) -> 20670.04
A34: 3.1 | B34: 103358 | C34: SINAPI | D34: ALVENARIA DE VEDAÇÃO DE BLOCOS CERÂMICOS FURADOS NA HORIZONTAL DE 11,5X19X29 CM (ESPESSURA 11,5 CM) E ARGAMASSA DE ASSENTAMENTO COM PREPARO EM BETONEIRA. AF_12/2021 | E34: 71.33 | F34: M2 | G34: 88.12 | H34: =$B$3 -> 0.21 | I34: =ROUND(G34*(1+H34),2) -> 106.63 | J34: =ROUND(I34*E34,2) -> 7605.92
A35: 3.2 | B35: 92431 | C35: SINAPI | D35: MONTAGEM E DESMONTAGEM DE FÔRMA DE PILARES RETANGULARES E ESTRUTURAS SIMILARES, PÉ-DIREITO SIMPLES, EM CHAPA DE MADEIRA COMPENSADA PLASTIFICADA. AF_09/2020 | E35: 18.12 | F35: M2 | G35: 69.23 | H35: =$B$3 -> 0.21 | I35: =ROUND(G35*(1+H35),2) -> 83.77 | J35: =ROUND(I35*E35,2) -> 1517.91
A36: 3.3 | B36: 92762 | C36: SINAPI | D36: ARMAÇÃO DE PILAR OU VIGA DE ESTRUTURA CONVENCIONAL DE CONCRETO ARMADO UTILIZANDO AÇO CA-50 DE 10,0 MM - MONTAGEM. AF_06/2022 | E36: 69.1 | F36: KG | G36: 10.1 | H36: =$B$3 -> 0.21 | I36: =ROUND(G36*(1+H36),2) -> 12.22 | J36: =ROUND(I36*E36,2) -> 844.4
A37: 3.4 | B37: 92759 | C37: SINAPI | D37: ARMAÇÃO DE PILAR OU VIGA DE ESTRUTURA CONVENCIONAL DE CONCRETO ARMADO UTILIZANDO AÇO CA-60 DE 5,0 MM - MONTAGEM. AF_06/2022 | E37: 18.33 | F37: KG | G37: 14.58 | H37: =$B$3 -> 0.21 | I37: =ROUND(G37*(1+H37),2) -> 17.64 | J37: =ROUND(I37*E37,2) -> 323.34
A38: 3.5 | B38: 103669 | C38: SINAPI | D38: CONCRETAGEM DE PILARES, FCK = 25 MPA, COM USO DE BALDES - LANÇAMENTO, ADENSAMENTO E ACABAMENTO. AF_02/2022 (Colunas e Pilar da área) | E38: 1.16 | F38: M3 | G38: 1050.16 | H38: =$B$3 -> 0.21 | I38: =ROUND(G38*(1+H38),2) -> 1270.69 | J38: =ROUND(I38*E38,2) -> 1474
A39: 3.6 | B39: 13.01.130 | C39: CDHU | D39: Laje pré-fabricada mista vigota treliçada/lajota cerâmica - LT 12 (8+4) e capa com concreto de 25 MPa | E39: 23.1 | F39: M2 | G39: 159.02 | H39: =$B$3 -> 0.21 | I39: =ROUND(G39*(1+H39),2) -> 192.41 | J39: =ROUND(I39*E39,2) -> 4444.67
A40: 3.7 | B40: 105021 | C40: SINAPI | D40: VERGA PRÉ-MOLDADA COM ATÉ 1,5 M DE VÃO, ESPESSURA DE *15* CM. AF_03/2024 | E40: 8.5 | F40: M | G40: 27 | H40: =$B$3 -> 0.21 | I40: =ROUND(G40*(1+H40),2) -> 32.67 | J40: =ROUND(I40*E40,2) -> 277.7
...

Sheet Cronograma
A1: =_xlfn.CONCAT(Orçamento!A1, " ", Orçamento!B1) -> Obra: Construção de Horta Municipal - Reservatório 10.000L
A2: =_xlfn.CONCAT(Orçamento!A2, " ", Orçamento!B2) -> Local: Rua Comandante Aristeu Cerqueira Leite, s/n.°, Jd. João Ballan II, Jahu/SP
A3: =Orçamento!A5 -> Jahu/SP, 25 de agosto de 2026
A4: Item | B4: Descrição | C4: Valor em R$ | D4: 1º Mês | F4: 2º Mês | H4: 3º Mês
D5: % | E5: R$ | F5: % | G5: R$ | H5: % | I5: R$
A6: =Orçamento!A7 -> 1. | B6: =VLOOKUP(A6, Orçamento!A$6:K$1375, 2, FALSE()) -> SERVIÇOS PRELIMINARES | C6: =VLOOKUP(A6, Orçamento!A$6:K$1375, 10, FALSE()) -> 8481.64 | D6: 1 | E6: =$C6*D6 -> 8481.64 | G6: =$C6*F6 -> 0 | I6: =$C6*H6 -> 0
A7: 2. | B7: =VLOOKUP(A7, Orçamento!A$6:K$1375, 2, FALSE()) -> INFRAESTRUTURA | C7: =VLOOKUP(A7, Orçamento!A$6:K$1375, 10, FALSE()) -> 10926.61 | D7: 1 | E7: =$C7*D7 -> 10926.61 | G7: =$C7*F7 -> 0 | I7: =$C7*H7 -> 0
A8: 3. | B8: =VLOOKUP(A8, Orçamento!A$6:K$1375, 2, FALSE()) -> SUPERESTRUTURA | C8: =VLOOKUP(A8, Orçamento!A$6:K$1375, 10, FALSE()) -> 20670.04 | D8: 0.5 | E8: =$C8*D8 -> 10335.02 | F8: 0.5 | G8: =$C8*F8 -> 10335.02 | I8: =$C8*H8 -> 0
A9: 4. | B9: =VLOOKUP(A9, Orçamento!A$6:K$1375, 2, FALSE()) -> COBERTURA | C9: =VLOOKUP(A9, Orçamento!A$6:K$1375, 10, FALSE()) -> 11777.91 | E9: =$C9*D9 -> 0 | F9: 1 | G9: =$C9*F9 -> 11777.91 | I9: =$C9*H9 -> 0
A10: 5. | B10: =VLOOKUP(A10, Orçamento!A$6:K$1375, 2, FALSE()) -> PISOS E REVESTIMENTOS | C10: =VLOOKUP(A10, Orçamento!A$6:K$1375, 10, FALSE()) -> 24449.87 | E10: =$C10*D10 -> 0 | F10: 0.4 | G10: =$C10*F10 -> 9779.948 | H10: 0.6 | I10: =$C10*H10 -> 14669.922
A11: 6. | B11: =VLOOKUP(A11, Orçamento!A$6:K$1375, 2, FALSE()) -> ESQUADRIAS | C11: =VLOOKUP(A11, Orçamento!A$6:K$1375, 10, FALSE()) -> 45939.79 | D11: 0.4 | E11: =$C11*D11 -> 18375.916 | F11: 0.6 | G11: =$C11*F11 -> 27563.874 | H11: 0 | I11: =$C11*H11 -> 0
A12: 7. | B12: =VLOOKUP(A12, Orçamento!A$6:K$1375, 2, FALSE()) -> PINTURA | C12: =VLOOKUP(A12, Orçamento!A$6:K$1375, 10, FALSE()) -> 8853 | E12: =$C12*D12 -> 0 | G12: =$C12*F12 -> 0 | H12: 1 | I12: =$C12*H12 -> 8853
A13: 8. | B13: =VLOOKUP(A13, Orçamento!A$6:K$1375, 2, FALSE()) -> INSTALAÇÕES ELÉTRICAS | C13: =VLOOKUP(A13, Orçamento!A$6:K$1375, 10, FALSE()) -> 16946.66 | D13: 0.2 | E13: =$C13*D13 -> 3389.332 | F13: 0.3 | G13: =$C13*F13 -> 5083.998 | H13: 0.5 | I13: =$C13*H13 -> 8473.33
A14: 9. | B14: =VLOOKUP(A14, Orçamento!A$6:K$1375, 2, FALSE()) -> ÁGUA FRIA E ESGOTO | C14: =VLOOKUP(A14, Orçamento!A$6:K$1375, 10, FALSE()) -> 6879.01 | D14: 0.6 | E14: =$C14*D14 -> 4127.406 | F14: 0.4 | G14: =$C14*F14 -> 2751.604 | I14: =$C14*H14 -> 0
A15: 10. | B15: =VLOOKUP(A15, Orçamento!A$6:K$1375, 2, FALSE()) -> BANCADA / LOUÇAS E METAIS | C15: =VLOOKUP(A15, Orçamento!A$6:K$1375, 10, FALSE()) -> 4337.42 | E15: =$C15*D15 -> 0 | G15: =$C15*F15 -> 0 | H15: 1 | I15: =$C15*H15 -> 4337.42
A16: 11. | B16: =VLOOKUP(A16, Orçamento!A$6:K$1375, 2, FALSE()) -> BASE RESERVATÓRIO / ABRIGO DA BOMBA | C16: =VLOOKUP(A16, Orçamento!A$6:K$1375, 10, FALSE()) -> 4244.78 | D16: 0.5 | E16: =$C16*D16 -> 2122.39 | F16: 0.5 | G16: =$C16*F16 -> 2122.39 | I16: =$C16*H16 -> 0
A17: 12. | B17: =VLOOKUP(A17, Orçamento!A$6:K$1375, 2, FALSE()) -> SERVIÇOS COMPLEMENTARES | C17: =VLOOKUP(A17, Orçamento!A$6:K$1375, 10, FALSE()) -> 4888.46 | E17: =$C17*D17 -> 0 | G17: =$C17*F17 -> 0 | H17: 1 | I17: =$C17*H17 -> 4888.46
A18: Total do Mês | D18: =E18/SUM($C6:$C17) -> 0.34299266 | E18: =SUM(E6:E17) -> 57758.314 | F18: =G18/SUM($C6:$C17) -> 0.41221334 | G18: =SUM(G6:G17) -> 69414.744 | H18: =I18/SUM($C6:$C17) -> 0.244794 | I18: =SUM(I6:I17) -> 41222.132
A19: Total Acumualdo | D19: =D18/SUM(C6:C17) -> 2.0368317e-06 | E19: =E18 -> 57758.314 | F19: =(D19+F18)/SUM($C6:$C17) -> 2.4479047e-06 | G19: =E19+G18 -> 127173.06 | H19: =(F19+H18)/SUM($C6:$C17) -> 1.4537021e-06 | I19: =G19+I18 -> 168395.19

Sheet Composições Preço Unitário
A1: Obra: | B1: =Orçamento!$B$1 -> Construção de Horta Municipal - Reservatório 10.000L | F1: Boletins de Referência
A2: Endereço: | B2: =Orçamento!$B$2 -> Rua Comandante Aristeu Cerqueira Leite, s/n.°, Jd. João Ballan II, Jahu/SP
A3: Leis Sociais: | B3: 1.2823
A6: COMPOSIÇÕES DE PREÇOS UNITÁRIOS
A7: Código | B7: CP-01 | C7: Serviço | D7: Bancada em concreto armado com revestimento cerâmico | E7: Unidade | F7: m² | G7: Preço Unitário s/ BDI | H7: =SUM(H8:H20) -> 229.67
A8: 1.1 | B8: B.01.000.010111 | C8: CDHU-I | D8: Carpinteiro | E8: H | F8: 1.5 | G8: 12.74 | H8: =ROUND(F8*G8,2) -> 19.11
A9: 1.2 | B9: B.01.000.010112 | C9: CDHU-I | D9: Ajudante de carpinteiro | E9: H | F9: 1.5 | G9: 10.47 | H9: =ROUND(F9*G9,2) -> 15.71
A10: 1.3 | B10: B.01.000.010121 | C10: CDHU-I | D10: Ferreiro/armador | E10: H | F10: 0.1 | G10: 12.74 | H10: =ROUND(F10*G10,2) -> 1.27
A11: 1.4 | B11: B.01.000.010122 | C11: CDHU-I | D11: Ajudante de ferreiro | E11: H | F11: 0.1 | G11: 10.47 | H11: =ROUND(F11*G11,2) -> 1.05
A12: 1.5 | B12: B.01.000.010139 | C12: CDHU-I | D12: Pedreiro | E12: H | F12: 2 | G12: 12.74 | H12: =ROUND(F12*G12,2) -> 25.48
A13: 1.6 | B13: B.01.000.010146 | C13: CDHU-I | D13: Servente | E13: H | F13: 3 | G13: 10.47 | H13: =ROUND(F13*G13,2) -> 31.41
A14: 1.7 | B14: B.06.000.042302 | C14: CDHU-I | D14: Tela em aço soldada nervurada CA-60, Q-61, diâmetro do fio = 3,4mm, espaçamento da malha = 15x15cm - (0,97 kg/m²) | E14: M2 | F14: 1.05 | G14: 7.5 | H14: =ROUND(F14*G14,2) -> 7.88
A15: 1.8 | B15: C.04.000.020530 | C15: CDHU-I | D15: Concreto usinado fck= 15 MPa, slump 5 ± 1cm | E15: M3 | F15: 0.05 | G15: 453.21 | H15: =ROUND(F15*G15,2) -> 22.66
A16: 1.9 | B16: D.02.000.021014 | C16: CDHU-I | D16: Sarrafo de cedrinho 2,5 x 5 cm | E16: M | F16: 5 | G16: 3.55 | H16: =ROUND(F16*G16,2) -> 17.75
A17: 1.10 | B17: D.03.000.021032 | C17: CDHU-I | D17: Chapa compensada cola PVA resinada de 12mm (2,20 x 1,10)m | E17: M2 | F17: 0.33 | G17: 28 | H17: =ROUND(F17*G17,2) -> 9.24
A18: 1.11 | B18: E.02.000.026760 | C18: CDHU-I | D18: Prego diversas bitolas (referência 18 x 27) | E18: KG | F18: 0.2 | G18: 10.22 | H18: =ROUND(F18*G18,2) -> 2.04
A19: 1.12 | B19: 87246 | C19: SINAPI | D19: REVESTIMENTO CERÂMICO PARA PISO COM PLACAS TIPO ESMALTADA DE DIMENSÕES 35X35 CM APLICADA EM AMBIENTES DE ÁREA MENOR QUE 5 M2. AF_02/2023_PE | E19: M2 | F19: 1 | G19: 74.45 | H19: =ROUND(F19*G19,2) -> 74.45
A20: 1.13 | B20: F.12.000.028008 | C20: CDHU-I | D20: Desmoldante para formas | E20: L | F20: 0.1 | G20: 16.19 | H20: =ROUND(F20*G20,2) -> 1.62

Sheet Cotações
A1: Obra: | B1: =[2]Orçamento!$B$2 -> CONSTRUÇÃO DE HORTA MUNICIPAL – ALOJAMENTO, DEPÓSITO DE FERRAMENTAS E BASE PARA RESERVATÓRIO
A2: Endereço: | B2: =[2]Orçamento!$B$3 -> Rua: Jahu/SP
A3: Data Base: | B3: =TODAY() -> 46293
A4: COTAÇÕES
A5: Código | B5: Descrição | C5: Preço Média | D5: Unidade | E5: Fornecedor | F5: CNPJ | G5: Link | H5: Data Base
A6: COT-01 | B6: Bomba Para Irrigação, 220 Vca Bifásica, 60 Hz, 1,5 CV, Aprox 6~6,5 m³/h em 20~24 MCA | C6: =AVERAGE(C7:C9) -> 2082 | D6: UN
A7: COT-01.01 | B7: Bomba Monoestágio Schneider BC-92S 1A 1,5CV Monofásico 110/220V sem Intermediário | C7: 2025 | D7: UN | G7: https://www.meritocomercial.com.br/bomba-monoestagio-schneider-bc-92s-1a-15-cv-monofasica-110v220v-sem-intermediario-4001001005296-p1031181?tsid=75&gad_source=1&gad_campaignid=16009193895&gclid=EAIaIQobChMI8eGjmLi5lgMVeFBIAB2mryONEAQYASABEgKqDfD_BwE | H7: 45786
A8: COT-01.02 | B8: Bomba Schneider BC-92S 1C 1,5CV 110/220V Monofásica | C8: 2069.1 | D8: UN | G8: https://www.bombashopping.com.br/bomba-monoestagio/bomba-schneider-monoestagio-bc-92s-1c-15cv-p7104?utm_source=google&utm_medium=cpc&utm_campaign=lojavirtual&utm_source=google&utm_medium=cpc&utm_campaign=V4_SHOPPING_PADRAO_PRESSURIZADORES&utm_content=198065428947&utm_term=&device=c&placement=&gad_source=1&gad_campaignid=23717323331&gclid=EAIaIQobChMI8eGjmLi5lgMVeFBIAB2mryONEAQYAyABEgIeOvD_BwE | H8: 45786
A9: COT-01.03 | B9: Bomba Schneider BC-92S 1A 1,5CV 127/220V Monofásica | C9: 2151.9 | D9: UN | G9: https://www.bombashopping.com.br/bomba-monoestagio/bomba-schneider-bc-92s-1a-1-5cv-trifasica-p7091?utm_source=google&utm_medium=cpc&utm_campaign=lojavirtual&utm_source=google&utm_medium=cpc&utm_campaign=V4_SHOPPING_PADRAO_PRESSURIZADORES&utm_content=198065428947&utm_term=&device=c&placement=&gad_source=1&gad_campaignid=23717323331&gclid=EAIaIQobChMI1ITa1r-5lgMVsEFIAB2QCTzpEAQYDCABEgI8oPD_BwE | H9: 45786
